Workbook

Sheet 応募用紙
G3: ２０２７年度 社会貢献活動助成制度
G4: 「コープみらい・くらしと地域づくり助成」応募用紙
A6: １．団体概要 | AD6: 申請日 | AG6: 2026年 | AN6: 月 | AS6: 日 | AV6: 応募用紙記入に当って 黄色いセルをご記入ください ※セル内で改行する場合は、[ALT]＋ [Enter]キーを押してください。
A7: 団体について | B7: フリガナ | AK7: 法人格 あり：「１」 なし：「2」 と記入
B8: 団体名
B11: 団体所在地 | G11: 〒 | AG11: 団体 ＴＥＬ
AG13: 団体 FAX
B15: 団体 代表者 | E15: フリ ガナ | U15: 役職 | AA15: 団体 ＵＲＬ | AC15: ①
E16: 氏名
AC17: ②
A19: 連絡先 について | B19: 連絡担当者１ | E19: フリ ガナ | AA19: 日中 連絡先 | AC19: 携帯
E20: 氏名
AC21: 固定 電話
E22: 役職 | AC22: E-mail
B23: 連絡担当者2 | E23: フリ ガナ | AA23: 日中 連絡先 | AC23: 携帯
E24: 氏名
AC25: 固定 電話
E26: 役職 | AC26: E-mail
B27: 郵便物 送付先 | E27: 住所 | G27: 選考結果や助成決定後の連絡は下記の住所宛に送ります。確実に届く住所をご記入ください。
G28: 〒
E32: 宛名 | G32: 団体名等（不要な場合は記入しないでください） | AG32: 個人名（必ず記入してください）
A34: 団体設立日 （予定日） | G34: 西暦 | N34: 年 | Q34: 月 | T34: 日 | U34: 法人格取得日（予定日） | AD34: 西暦 | AK34: 年 | AO34: 月 | AS34: 日
A35: 団体の活動目的と過去１年間の活動内容・実績、または活動開始の経緯
AV37: ※活動内容・活動実績：8行、350文字まで。 オーバーすると審査のために印刷した際に文章が途中で切れることがあります。
AV39: 現在 | AW39: =LEN(G35) -> 0 | AX39: 文字 | BA39: =IF(AW39>350,"字数オーバーです"," ")
A41: 団体の構成員数 (利用者は除く) | G41: 会員 | P41: 人 | R41: その他の会員 | AC41: 人 | AE41: 他の構成員 | AR41: 人
A42: これまでの 受賞履歴 | G42: 表彰名 | AE42: 受賞年
A45: コープみらい 地域クラブ名 | AB45: 地域クラブコード
G46: コープみらいの地域クラブに登録している場合は上に記入してください。 ※地域クラブとは、コープみらい組合員及び、地域の方どうしがつながり、継続的なグループ活動を通じて、人と人とがつながり、コープとつながり、くらしに関わるニーズを実現する組織です。
A48: Ｐ１ | D48: くらしと地域づくり助成 応募用紙 | AE48: 受付番号 | AJ48: 27
A52: ２．助成金を活用して実施する事業について（１） | AV52: ※事業名・活動名：30文字まで。 必ず30文字に納めてください
A53: 事業・活動名 | AI53: 番号を記入
AI54: １.新規事業 ２.実施中の事業 | AV54: 現在 | AW54: =LEN(G53) -> 0 | AX54: 文字 | BA54: =IF(AW54>30,"字数オーバーです"," ")
A55: 主な事業実施場所 | G55: 事業を実施する、地域・区市町村を記入 | Z55: 特定の施設で実施している場合は施設名を記入
A57: 事業で取り組む分野 (団体の取り組み分野ではありません) | G57: １．食・食育 | L57: ２．消費者の権利 | S57: ３．福祉、健康 | Y57: ４．子ども・子育て | AG57: 左の番号を記入（主１つ、従２つまで）
G58: ５．次世代支援 | N58: ６．教育、文化、スポーツ | X58: ７．環境保全 | AG58: 主な分野 | AL58: 従な分野
G59: ８．人権、平和、国際協力・交流 | S59: ９．防犯・防災・減災、災害復興支援
A60: 事業で取り組みたい地域や社会の課題 | AV60: ※事業で取り組みたい地域や社会の課題： ５行、200文字まで。 オーバーすると審査のために印刷した際に文章が途中で切れることがあります。
AV63: 現在 | AW63: =LEN(G60) -> 0 | AX63: 文字 | BA63: =IF(AW63>200,"字数オーバーです"," ")
A64: 助成金を活用して実施する事業の目的 | AV64: ※事業の目的：４行、150文字まで。 オーバーすると審査のために印刷した際に文章が途中で切れることがあります。
...

Sheet 集計用
AU2: ２．助成金を活用して実施する事業について（１） | BT2: ３．応募事業への他団体からの助成について | CX2: ４予算書 | GK2: スケジュール | HA2: チェックリスト
C3: １．団体概要 | BF3: 助成事業の実施体制 | BJ3: 助成事業の成果目標 | BO3: 助成の必要性 | BT3: 過去の助成 | CC3: 次年度（2027年度）応募事業への助成・補助金申請 | CY3: ①外部講師謝礼 | DC3: ②旅費交通費 | DG3: ③使用料及び賃借料 | DK3: ④委託料 | DO3: ⑤備品購入費 | DS3: ⑥消耗品費 | DW3: ⑦食糧費 | EA3: ⑧人件費 | EE3: ⑨印刷費・製本費 | EI3: ⑩通信費・運搬費 | EM3: ⑪その他 | EQ3: 合計 | ES3: 助成金を活用して呼ぶ外部講師について（前ページの①外部講師謝礼の詳細） | FM3: 収入の部 | GK3: 助成事業実施期間 | GO3: 月次スケジュール | HA3: 「コープみらい・くらしと地域づくり助成」応募用紙（所定書式） | HC3: ５万円以上の備品の見積書 | HF3: 定款、会則等の規程、団体の組織や運営について定めたもの（書式は問いません） | HH3: 会員名簿、役員名簿など、5人以上の氏名・役職・住所（市区町村まで）が入った名簿 | HJ3: 前年度（2025年度）の収支決算書 | HM3: 当年度（2026年度）の予算書 | HO3: 前年度（2025年度）の収支決算書 | HR3: 当年度（2026年度）の予算書 | HU3: 団体の活動内容のわかる資料 | HW3: 募集チラシ、開催報告など | HZ3: 写真 | IC3: アンケート
C4: 団体名 | D4: フリガナ | E4: 法人格 | F4: 団体所在地〒 | G4: 団体所在地住所 | H4: 団体 ＴＥＬ | I4: 団体 FAX | J4: 代表者氏名 | K4: フリ ガナ | L4: 役職 | M4: 団体 ＵＲＬ① | N4: 団体 ＵＲＬ② | O4: 連絡先①氏名 | P4: フリ ガナ | Q4: 役職 | R4: 携帯 | S4: 固定 電話 | T4: E-mail | U4: 連絡先②氏名 | V4: フリ ガナ | W4: 役職 | X4: 携帯 | Y4: 固定 電話 | Z4: E-mail | AA4: 郵送〒 | AB4: 郵送住所 | AC4: 団体宛名 | AD4: 個人名 | AE4: 団体設立日 （予定日） | AH4: 法人格取得日（予定日） | AK4: 団体の活動目的活動内容・実績 | AL4: 会員数 | AM4: その他の会員数 | AN4: 他の構成員数 | AO4: 表彰① | AP4: 受賞年 | AQ4: 表彰② | AR4: 受賞年 | AS4: 地域クラブ名 | AT4: 地域クラブコード | AU4: 事業・活動名 | AV4: 主な事業実施場所 | AW4: 施設名 | AX4: 新規・実施中 | AY4: 主な分野 | AZ4: 従な分野① | BA4: 従な分野② | BB4: 地域や社会の課題 | BC4: 事業の目的 | BD4: 事業の内容 | BE4: 情報の発信 | BF4: 体制（会員） | BG4: 体制（ボランティア等） | BH4: 体制（その他） | BI4: 協力団体 | BJ4: 事業の 対象者 | BK4: 事業の実施予定回数 | BL4: 参加のべ人数 | BM4: 実施前の状況 | BN4: 実施後の状況 | BO4: 助成金の使途 | BP4: 助成金の貢献内容 | BQ4: 助成が受けられなかったときの対応 | BR4: 助成終了後の 事業の展望 | BS4: 一緒にできそうなこと | BT4: 助成履歴①(助成名） | BU4: 助成履歴①(年度） | BV4: 助成履歴①(金額） | BW4: 助成履歴②(助成名） | BX4: 助成履歴②(年度） | BY4: 助成履歴②(金額） | BZ4: 助成履歴③(助成名） | CA4: 助成履歴③(年度） | CB4: 助成履歴③(金額） | CC4: 応募①（助成名） | CD4: 応募①（ちがい） | CE4: 応募①（決定年） | CF4: 応募①（決定月） | CG4: 応募①（金額） | CH4: 応募②（助成名） | CI4: 応募②（ちがい） | CJ4: 応募②（決定年） | CK4: 応募②（決定月） | CL4: 応募②（金額） | CM4: 応募③（助成名） | CN4: 応募③（ちがい） | CO4: 応募③（決定年） | CP4: 応募③（決定月） | CQ4: 応募③（金額） | CR4: 応募④（助成名） | CS4: 応募④（ちがい） | CT4: 応募④（決定年） | CU4: 応募④（決定月） | CV4: 応募④（金額） | CW4: 応募助成金総額 | CX4: 希望助成金額 | CY4: 必要経費総額 | CZ4: 助成金活用額 | DA4: 助成金活用明細 | DB4: 他の支出明細 | DC4: 必要経費総額 | DD4: 助成金活用額 | DE4: 助成金活用明細 | DF4: 他の支出明細 | DG4: 必要経費総額 | DH4: 助成金活用額 | DI4: 助成金活用明細 | DJ4: 他の支出明細 | DK4: 必要経費総額 | DL4: 助成金活用額 | DM4: 助成金活用明細 | DN4: 他の支出明細 | DO4: 必要経費総額 | DP4: 助成金活用額 | DQ4: 助成金活用明細 | DR4: 他の支出明細 | DS4: 必要経費総額 | DT4: 助成金活用額 | DU4: 助成金活用明細 | DV4: 他の支出明細 | DW4: 必要経費総額 | DX4: 助成金活用額 | DY4: 助成金活用明細 | DZ4: 他の支出明細 | EA4: 必要経費総額 | EB4: 助成金活用額 | EC4: 助成金活用明細 | ED4: 他の支出明細 | EE4: 必要経費総額 | EF4: 助成金活用額 | EG4: 助成金活用明細 | EH4: 他の支出明細 | EI4: 必要経費総額 | EJ4: 助成金活用額 | EK4: 助成金活用明細 | EL4: 他の支出明細 | EM4: 必要経費総額 | EN4: 助成金活用額 | EO4: 助成金活用明細 | EP4: 他の支出明細 | EQ4: C事業に必要 な経費合計 | ER4: Ａ助成金活用 支出合計 | ES4: 企画名 | ET4: 役割 | EU4: 肩書き・資格 | EV4: 名前等(決まっていれば) | EW4: 企画名 | EX4: 役割 | EY4: 肩書き・資格 | EZ4: 名前等(決まっていれば) | FA4: 企画名 | FB4: 役割 | FC4: 肩書き・資格 | FD4: 名前等(決まっていれば) | FE4: 企画名 | FF4: 役割 | FG4: 肩書き・資格 | FH4: 名前等(決まっていれば) | FI4: 企画名 | FJ4: 役割 | FK4: 肩書き・資格 | FL4: 名前等(決まっていれば) | FM4: くらしと地域づくり助成金 | FN4: 他からの助成金 | FO4: 会費 | FP4: 会費明細 | FQ4: 食事代 | FR4: 食事代明細 | FS4: 参加費 | FT4: 参加費明細 | FU4: 物品等販売収入 | FV4: 物品販売明細 | FW4: 寄付・協賛金 | FX4: 寄付明細 | FY4: その他１ | FZ4: その他１金額 | GA4: その他1明細 | GB4: その他２ | GC4: その他２金額 | GD4: その他2明細 | GE4: その他３ | GF4: その他３金額 | GG4: その他3明細 | GH4: 収入合計D | GI4: 応募事業の剰余 D-C | GJ4: 剰余がマイナスの場合は、下の欄に補填方法を記入してください | GK4: 開始予定（西暦）年 | GL4: 月 | GM4: 終了予定（西暦）年 | GN4: 月 | GO4: 46478 | GP4: 46508 | GQ4: 46539 | GR4: 46569 | GS4: 46600 | GT4: 46631 | GU4: 46661 | GV4: 46692 | GW4: 46722 | GX4: 46753 | GY4: 46784 | GZ4: 46813 | HA4: 応募フォーム | HB4: 郵送 | HC4: 応募フォーム | HD4: 郵送 | HE4: 無し | HF4: 応募フォーム | HG4: 郵送 | HH4: 応募フォーム | HI4: 郵送 | HJ4: 応募フォーム | HK4: 郵送 | HL4: 無し | HM4: 応募フォーム | HN4: 郵送 | HO4: 応募フォーム | HP4: 郵送 | HQ4: 無し | HR4: 応募フォーム | HS4: 郵送 | HT4: 無し | HU4: 応募フォーム | HV4: 郵送 | HW4: 応募フォーム | HX4: 郵送 | HY4: 無し | HZ4: 応募フォーム | IA4: 郵送 | IB4: 無し | IC4: ①知人からの紹介 | ID4: ②コープみらい財団のウェブサイト | IE4: ③都県本部からの案内 | IF4: ④インフォメーション | IG4: ⑤市民活動の情報が掲載されているウェブサイト | IH4: ⑥行政の窓口、地域の支援センター等 | II4: ⑦ＳＮＳの情報 | IJ4: ⑧その他 | IK4: ⑧他 記入 | IL4: ⑤⑦名称
C5: =応募用紙!G8 -> 0 | D5: =応募用紙!G7 -> 0 | E5: =応募用紙!AP7 -> 0 | F5: =応募用紙!H11 -> 0 | G5: =応募用紙!G12 -> 0 | H5: =応募用紙!AI11 -> 0 | I5: =応募用紙!AI13 -> 0 | J5: =応募用紙!G16 -> 0 | K5: =応募用紙!G15 -> 0 | L5: =応募用紙!U16 -> 0 | M5: =応募用紙!AD15 -> 0 | N5: =応募用紙!AD17 -> 0 | O5: =応募用紙!G20 -> 0 | P5: =応募用紙!G19 -> 0 | Q5: =応募用紙!G22 -> 0 | R5: =応募用紙!AE19 -> 0 | S5: =応募用紙!AE21 -> 0 | T5: =応募用紙!AE22 -> 0 | U5: =応募用紙!G24 -> 0 | V5: =応募用紙!G23 -> 0 | W5: =応募用紙!G26 -> 0 | X5: =応募用紙!AE23 -> 0 | Y5: =応募用紙!AE25 -> 0 | Z5: =応募用紙!AE26 -> 0 | AA5: =応募用紙!H28 -> 0 | AB5: =応募用紙!G29 -> 0 | AC5: =応募用紙!G33 -> 0 | AD5: =応募用紙!AG33 -> 0 | AE5: =応募用紙!J34 -> 0 | AF5: =応募用紙!O34 -> 0 | AG5: =応募用紙!R34 -> 0 | AH5: =応募用紙!AG34 -> 0 | AI5: =応募用紙!AL34 -> 0 | AJ5: =応募用紙!AP34 -> 0 | AK5: =応募用紙!G35 -> 0 | AL5: =応募用紙!J41 -> 0 | AM5: =応募用紙!W41 -> 0 | AN5: =応募用紙!AJ41 -> 0 | AO5: =応募用紙!G43 -> 0 | AP5: =応募用紙!AE43 -> 0 | AQ5: =応募用紙!G44 -> 0 | AR5: =応募用紙!AE44 -> 0 | AS5: =応募用紙!G45 -> 0 | AT5: =応募用紙!AH45 -> 0 | AU5: =応募用紙!G53 -> 0 | AV5: =応募用紙!G56 -> 0 | AW5: =応募用紙!Z56 -> 0 | AX5: =応募用紙!AP54 -> 0 | AY5: =応募用紙!AI58 -> 0 | AZ5: =応募用紙!AN58 -> 0 | BA5: =応募用紙!AQ58 -> 0 | BB5: =応募用紙!G60 -> 0 | BC5: =応募用紙!G64 -> 0 | BD5: =応募用紙!G68 -> 0 | BE5: =応募用紙!G77 -> 0 | BF5: =応募用紙!K80 -> 0 | BG5: =応募用紙!Y80 -> 0 | BH5: =応募用紙!AL80 -> 0 | BI5: =応募用紙!G82 -> 0 | BJ5: =応募用紙!K83 -> 0 | BK5: =応募用紙!K84 -> 0 | BL5: =応募用紙!AE84 -> 0 | BM5: =応募用紙!K85 -> 0 | BN5: =応募用紙!K87 -> 0 | BO5: =応募用紙!G94 -> 0 | BP5: =応募用紙!G97 -> 0 | BQ5: =応募用紙!G100 -> 0 | BR5: =応募用紙!G103 -> 0 | BS5: =応募用紙!G108 -> 0 | BT5: =応募用紙!E116 -> 0 | BU5: =応募用紙!AB116 -> 0 | BV5: =応募用紙!AK116 -> 0 | BW5: =応募用紙!E117 -> 0 | BX5: =応募用紙!AB117 -> 0 | BY5: =応募用紙!AK117 -> 0 | BZ5: =応募用紙!E118 -> 0 | CA5: =応募用紙!AB118 -> 0 | CB5: =応募用紙!AK118 -> 0 | CC5: =応募用紙!E121 -> 0 | CD5: =応募用紙!R121 -> 0 | CE5: =応募用紙!AE121 -> 0 | CF5: =応募用紙!AI121 -> 0 | CG5: =応募用紙!AL121 -> 0 | CH5: =応募用紙!E122 -> 0 | CI5: =応募用紙!R122 -> 0 | CJ5: =応募用紙!AE122 -> 0 | CK5: =応募用紙!AI122 -> 0 | CL5: =応募用紙!AL122 -> 0 | CM5: =応募用紙!E123 -> 0 | CN5: =応募用紙!R123 -> 0 | CO5: =応募用紙!AE123 -> 0 | CP5: =応募用紙!AI123 -> 0 | CQ5: =応募用紙!AL123 -> 0 | CR5: =応募用紙!E124 -> 0 | CS5: =応募用紙!R124 -> 0 | CT5: =応募用紙!AE124 -> 0 | CU5: =応募用紙!AI124 -> 0 | CV5: =応募用紙!AL124 -> 0 | CW5: =応募用紙!AL125 | CX5: =応募用紙!P132 | CY5: =応募用紙!F138 -> 0 | CZ5: =応募用紙!K138 -> 0 | DA5: =応募用紙!S138 -> 0 | DB5: =応募用紙!S139 -> 0 | DC5: =応募用紙!F140 -> 0 | DD5: =応募用紙!K140 -> 0 | DE5: =応募用紙!S140 -> 0 | DF5: =応募用紙!S141 -> 0 | DG5: =応募用紙!F142 -> 0 | DH5: =応募用紙!K142 -> 0 | DI5: =応募用紙!S142 -> 0 | DJ5: =応募用紙!S143 -> 0 | DK5: =応募用紙!F144 -> 0 | DL5: =応募用紙!K144 -> 0 | DM5: =応募用紙!S144 -> 0 | DN5: =応募用紙!S145 -> 0 | DO5: =応募用紙!F146 -> 0 | DP5: =応募用紙!K146 -> 0 | DQ5: =応募用紙!S146 -> 0 | DR5: =応募用紙!S147 -> 0 | DS5: =応募用紙!F148 -> 0 | DT5: =応募用紙!K148 -> 0 | DU5: =応募用紙!S148 -> 0 | DV5: =応募用紙!S149 -> 0 | DW5: =応募用紙!F150 -> 0 | DX5: =応募用紙!K150 -> 0 | DY5: =応募用紙!S150 -> 0 | DZ5: =応募用紙!S151 -> 0 | EA5: =応募用紙!F152 -> 0 | EB5: =応募用紙!K152 -> 0 | EC5: =応募用紙!S152 -> 0 | ED5: =応募用紙!S153 -> 0 | EE5: =応募用紙!F154 -> 0 | EF5: =応募用紙!K154 -> 0 | EG5: =応募用紙!S154 -> 0 | EH5: =応募用紙!S155 -> 0 | EI5: =応募用紙!F156 -> 0 | EJ5: =応募用紙!K156 -> 0 | EK5: =応募用紙!S156 -> 0 | EL5: =応募用紙!S157 -> 0 | EM5: =応募用紙!F158 -> 0 | EN5: =応募用紙!K158 -> 0 | EO5: =応募用紙!S158 -> 0 | EP5: =応募用紙!S159 -> 0 | EQ5: =応募用紙!F160 | ER5: =応募用紙!K160 | ES5: =応募用紙!B170 -> 0 | ET5: =応募用紙!Q170 -> 0 | EU5: =応募用紙!AB170 -> 0 | EV5: =応募用紙!AK170 -> 0 | EW5: =応募用紙!B171 -> 0 | EX5: =応募用紙!Q171 -> 0 | EY5: =応募用紙!AB171 -> 0 | EZ5: =応募用紙!AK171 -> 0 | FA5: =応募用紙!B172 -> 0 | FB5: =応募用紙!Q172 -> 0 | FC5: =応募用紙!AB172 -> 0 | FD5: =応募用紙!AK172 -> 0 | FE5: =応募用紙!B173 -> 0 | FF5: =応募用紙!Q173 -> 0 | FG5: =応募用紙!AB173 -> 0 | FH5: =応募用紙!AK173 -> 0 | FI5: =応募用紙!B174 -> 0 | FJ5: =応募用紙!Q174 -> 0 | FK5: =応募用紙!AB174 -> 0 | FL5: =応募用紙!AK174 -> 0 | FM5: =応募用紙!Q178 | FN5: =応募用紙!Q179 | FO5: =応募用紙!Q180 -> 0 | FP5: =応募用紙!W180 -> 0 | FQ5: =応募用紙!Q181 -> 0 | FR5: =応募用紙!W181 -> 0 | FS5: =応募用紙!Q182 -> 0 | FT5: =応募用紙!W182 -> 0 | FU5: =応募用紙!Q183 -> 0 | FV5: =応募用紙!W183 -> 0 | FW5: =応募用紙!Q184 -> 0 | FX5: =応募用紙!W184 -> 0 | FY5: =応募用紙!F185 -> 0 | FZ5: =応募用紙!Q185 -> 0 | GA5: =応募用紙!W185 -> 0 | GB5: =応募用紙!F186 -> 0 | GC5: =応募用紙!Q186 -> 0 | GD5: =応募用紙!W186 -> 0 | GE5: =応募用紙!F187 -> 0 | GF5: =応募用紙!Q187 -> 0 | GG5: =応募用紙!W187 -> 0 | GH5: =応募用紙!Q188 | GI5: =応募用紙!I190 | GJ5: =応募用紙!Q191 -> 0 | GK5: =応募用紙!M200 -> 0 | GL5: =応募用紙!V200 -> 0 | GM5: =応募用紙!AE200 -> 0 | GN5: =応募用紙!AN200 -> 0 | GO5: =応募用紙!H203 -> 0 | GP5: =応募用紙!H207 -> 0 | GQ5: =応募用紙!H211 -> 0 | GR5: =応募用紙!H215 -> 0 | GS5: =応募用紙!H219 -> 0 | GT5: =応募用紙!H223 -> 0 | GU5: =応募用紙!H227 -> 0 | GV5: =応募用紙!H231 -> 0 | GW5: =応募用紙!H235 -> 0 | GX5: =応募用紙!H239 -> 0 | GY5: =応募用紙!H243 -> 0 | GZ5: =応募用紙!H247 -> 0 | HA5: =応募用紙!AA262 -> 0 | HB5: =応募用紙!AD262 -> 0 | HC5: =応募用紙!AA264 -> 0 | HD5: =応募用紙!AD264 -> 0 | HE5: =応募用紙!AG264 -> 0 | HF5: =応募用紙!AA266 -> 0 | HG5: =応募用紙!AD266 -> 0 | HH5: =応募用紙!AA268 -> 0 | HI5: =応募用紙!AD268 -> 0 | HJ5: =応募用紙!AA270 -> 0 | HK5: =応募用紙!AD270 -> 0 | HL5: =応募用紙!AG270 -> 0 | HM5: =応募用紙!AA272 -> 0 | HN5: =応募用紙!AD272 -> 0 | HO5: =応募用紙!AA274 -> 0 | HP5: =応募用紙!AD274 -> 0 | HQ5: =応募用紙!AG274 -> 0 | HR5: =応募用紙!AA276 -> 0 | HS5: =応募用紙!AD276 -> 0 | HT5: =応募用紙!AG276 -> 0 | HU5: =応募用紙!AA278 -> 0 | HV5: =応募用紙!AD278 -> 0 | HW5: =応募用紙!AA280 -> 0 | HX5: =応募用紙!AD280 -> 0 | HY5: =応募用紙!AG280 -> 0 | HZ5: =応募用紙!AA282 -> 0 | IA5: =応募用紙!AD282 -> 0 | IB5: =応募用紙!AG282 -> 0 | IC5: =応募用紙!A288 -> 0 | ID5: =応募用紙!A289 -> 0 | IE5: =応募用紙!A290 -> 0 | IF5: =応募用紙!A291 -> 0 | IG5: =応募用紙!A292 -> 0 | IH5: =応募用紙!A293 -> 0 | II5: =応募用紙!A294 -> 0 | IJ5: =応募用紙!A295 -> 0 | IK5: =応募用紙!P295 -> 0 | IL5: =応募用紙!P296 -> 0
